Workbook

Sheet Costos Directes i indirectes
A1: COST DIRECTE | H1: COST INDIRECTE
A2: Personal servei | B2: Experiència | C2: Sou brut anual | D2: Sou net mensual | E2: Cost empresa mensual | F2: PROPOSTA Cost empresa mensual
A3: Autor de projecte (20) | B3: 20 anys | C3: 90000 | D3: =VLOOKUP(C3,'Costos Directes i indirectes'!$A$33:$F$49,3,FALSE) -> 4128 | E3: =VLOOKUP(C3,'Costos Directes i indirectes'!$A$33:$F$49,6,FALSE) -> 9750 | F3: =ROUNDUP(E3,-2) -> 9800 | H3: VISITA ÀMBIT PROJECTE | K3: EQUIPS INFORMÀTICS | P3: OFICINA D'OBRA
A4: Autor de projecte (15) | B4: 15 anys | C4: 60000 | D4: =VLOOKUP(C4,'Costos Directes i indirectes'!$A$33:$F$49,3,FALSE) -> 2917 | E4: =VLOOKUP(C4,'Costos Directes i indirectes'!$A$33:$F$49,6,FALSE) -> 6500 | F4: =ROUNDUP(E4,-2) -> 6500 | K4: Concepte | L4: Cost total | M4: Vida útil (anys) | N4: Cost mensual | P4: Concepte | Q4: Cost total | R4: Vida útil (anys) | S4: Cost mensual
A5: Autor de projecte (10 anys) | B5: 10 anys | C5: 50000 | D5: =VLOOKUP(C5,'Costos Directes i indirectes'!$A$33:$F$49,3,FALSE) -> 2468 | E5: =VLOOKUP(C5,'Costos Directes i indirectes'!$A$33:$F$49,6,FALSE) -> 5416.6667 | F5: =ROUNDUP(E5,-2) -> 5500 | H5: Renting | K5: Impresora | L5: 400 | M5: 3 | N5: =L5/(12*M5) -> 11.111111 | P5: Mobiliari | Q5: 1500 | R5: 5 | S5: =Q5/(12*R5) -> 25
A6: Adjunt autor de projecte (15) | B6: 15 anys | C6: 60000 | D6: =VLOOKUP(C6,'Costos Directes i indirectes'!$A$33:$F$49,3,FALSE) -> 2917 | E6: =VLOOKUP(C6,'Costos Directes i indirectes'!$A$33:$F$49,6,FALSE) -> 6500 | F6: =ROUNDUP(E6,-2) -> 6500 | H6: Cost vehicle (€/mes) | I6: 500 | K6: Ordinador | L6: 800 | M6: 3 | N6: =L6/(12*M6) -> 22.222222
A7: Adjunt autor de projecte (10) | B7: 10 anys | C7: 45000 | D7: =VLOOKUP(C7,'Costos Directes i indirectes'!$A$33:$F$49,3,FALSE) -> 2258 | E7: =VLOOKUP(C7,'Costos Directes i indirectes'!$A$33:$F$49,6,FALSE) -> 4875 | F7: =ROUNDUP(E7,-2) -> 4900 | H7: Cost vehicle (€/visita) | I7: =I6/22 -> 22.727273 | K7: Telèfon | L7: 400 | M7: 3 | N7: =L7/(12*M7) -> 11.111111
A8: Adjunt autor de projecte (5) | B8: 5 anys | C8: 40000 | D8: =VLOOKUP(C8,'Costos Directes i indirectes'!$A$33:$F$49,3,FALSE) -> 2053 | E8: =VLOOKUP(C8,'Costos Directes i indirectes'!$A$33:$F$49,6,FALSE) -> 4333.3333 | F8: =ROUNDUP(E8,-2) -> 4400
A9: Tècnic geotècnia | B9: - | C9: 35000 | D9: =VLOOKUP(C9,'Costos Directes i indirectes'!$A$33:$F$49,3,FALSE) -> 1825 | E9: =VLOOKUP(C9,'Costos Directes i indirectes'!$A$33:$F$49,6,FALSE) -> 3791.6667 | F9: =ROUNDUP(E9,-2) -> 3800 | H9: Benzina i peatges | K9: SOFTWARE
A10: Tècnic càlculs hidràulics | B10: - | C10: 35000 | D10: =VLOOKUP(C10,'Costos Directes i indirectes'!$A$33:$F$49,3,FALSE) -> 1825 | E10: =VLOOKUP(C10,'Costos Directes i indirectes'!$A$33:$F$49,6,FALSE) -> 3791.6667 | F10: =ROUNDUP(E10,-2) -> 3800 | H10: MUNICIPI | I10: SANTA MARIA DE MARTORELLES | K10: Concepte | L10: Cost anual | N10: Cost mensual
A11: Tècnic estudis inundabilitat | B11: - | C11: 35000 | D11: =VLOOKUP(C11,'Costos Directes i indirectes'!$A$33:$F$49,3,FALSE) -> 1825 | E11: =VLOOKUP(C11,'Costos Directes i indirectes'!$A$33:$F$49,6,FALSE) -> 3791.6667 | F11: =ROUNDUP(E11,-2) -> 3800 | H11: PEATGES DESDE FONTSANTA | I11: 0 | K11: Llicències | L11: 300 | N11: =L11/12 -> 25
A12: Tècnic procés | B12: - | C12: 35000 | D12: =VLOOKUP(C12,'Costos Directes i indirectes'!$A$33:$F$49,3,FALSE) -> 1825 | E12: =VLOOKUP(C12,'Costos Directes i indirectes'!$A$33:$F$49,6,FALSE) -> 3791.6667 | F12: =ROUNDUP(E12,-2) -> 3800 | H12: COST PEATGES (€/MES) | I12: =I11*2*22 -> 0
A13: Tècnic calculs estructurals | B13: - | C13: 35000 | D13: =VLOOKUP(C13,'Costos Directes i indirectes'!$A$33:$F$49,3,FALSE) -> 1825 | E13: =VLOOKUP(C13,'Costos Directes i indirectes'!$A$33:$F$49,6,FALSE) -> 3791.6667 | F13: =ROUNDUP(E13,-2) -> 3800 | H13: QUILÒMETRES DESDE FONTSANTA (KM) | I13: 45
A14: Tècnic equips electromecànics | B14: - | C14: 35000 | D14: =VLOOKUP(C14,'Costos Directes i indirectes'!$A$33:$F$49,3,FALSE) -> 1825 | E14: =VLOOKUP(C14,'Costos Directes i indirectes'!$A$33:$F$49,6,FALSE) -> 3791.6667 | F14: =ROUNDUP(E14,-2) -> 3800 | H14: PREU BENZINA (€/l) | I14: 1.7
A15: Tècnic equips i instal·lacions elèctriques | B15: - | C15: 35000 | D15: =VLOOKUP(C15,'Costos Directes i indirectes'!$A$33:$F$49,3,FALSE) -> 1825 | E15: =VLOOKUP(C15,'Costos Directes i indirectes'!$A$33:$F$49,6,FALSE) -> 3791.6667 | F15: =ROUNDUP(E15,-2) -> 3800 | H15: CONSUM VEHICLE (l/100 KM) | I15: 5.5
A16: Tècnic automatització i telecontrol | B16: - | C16: 35000 | D16: =VLOOKUP(C16,'Costos Directes i indirectes'!$A$33:$F$49,3,FALSE) -> 1825 | E16: =VLOOKUP(C16,'Costos Directes i indirectes'!$A$33:$F$49,6,FALSE) -> 3791.6667 | F16: =ROUNDUP(E16,-2) -> 3800 | H16: COST BENZINA (€/VISITA) | I16: =(I13*2)*(I15/100)*I14 -> 8.415
A17: Tècnic medi ambient | B17: - | C17: 35000 | D17: =VLOOKUP(C17,'Costos Directes i indirectes'!$A$33:$F$49,3,FALSE) -> 1825 | E17: =VLOOKUP(C17,'Costos Directes i indirectes'!$A$33:$F$49,6,FALSE) -> 3791.6667 | F17: =ROUNDUP(E17,-2) -> 3800
A18: Tècnic de seguretat i salut | B18: - | C18: 35000 | D18: =VLOOKUP(C18,'Costos Directes i indirectes'!$A$33:$F$49,3,FALSE) -> 1825 | E18: =VLOOKUP(C18,'Costos Directes i indirectes'!$A$33:$F$49,6,FALSE) -> 3791.6667 | F18: =ROUNDUP(E18,-2) -> 3800 | H18: DIETES
A19: Director ambiental (10) | B19: 10 anys | C19: 40000 | D19: =VLOOKUP(C19,'Costos Directes i indirectes'!$A$33:$F$49,3,FALSE) -> 2053 | E19: =VLOOKUP(C19,'Costos Directes i indirectes'!$A$33:$F$49,6,FALSE) -> 4333.3333 | F19: =ROUNDUP(E19,-2) -> 4400 | H19: Dieta diària (€/dia) | I19: 19
A20: Coordinador de SiS i ambiental (10) | B20: 10 anys | C20: 50000 | D20: =VLOOKUP(C20,'Costos Directes i indirectes'!$A$33:$F$49,3,FALSE) -> 2468 | E20: =VLOOKUP(C20,'Costos Directes i indirectes'!$A$33:$F$49,6,FALSE) -> 5416.6667 | F20: =ROUNDUP(E20,-2) -> 5500
A21: Coordinador de SiS i ambiental (5) | B21: 5 anys | C21: 40000 | D21: =VLOOKUP(C21,'Costos Directes i indirectes'!$A$33:$F$49,3,FALSE) -> 2053 | E21: =VLOOKUP(C21,'Costos Directes i indirectes'!$A$33:$F$49,6,FALSE) -> 4333.3333 | F21: =ROUNDUP(E21,-2) -> 4400 | H21: COST VISITA | I21: =I7+I16+I19 -> 50.142273
A22: BIM Manager | B22: - | C22: 45000 | D22: =VLOOKUP(C22,'Costos Directes i indirectes'!$A$33:$F$49,3,FALSE) -> 2258 | E22: =VLOOKUP(C22,'Costos Directes i indirectes'!$A$33:$F$49,6,FALSE) -> 4875 | F22: =ROUNDUP(E22,-2) -> 4900
A23: Modelador BIM | B23: - | C23: 35000 | D23: =VLOOKUP(C23,'Costos Directes i indirectes'!$A$33:$F$49,3,FALSE) -> 1825 | E23: =VLOOKUP(C23,'Costos Directes i indirectes'!$A$33:$F$49,6,FALSE) -> 3791.6667 | F23: =ROUNDUP(E23,-2) -> 3800
A24: Equip topografia | B24: - | C24: 35000 | D24: =VLOOKUP(C24,'Costos Directes i indirectes'!$A$33:$F$49,3,FALSE) -> 1825 | E24: =VLOOKUP(C24,'Costos Directes i indirectes'!$A$33:$F$49,6,FALSE) -> 3791.6667 | F24: =ROUNDUP(E24,-2) -> 3800
A25: Vigilant d'obra (5) | B25: 5 anys | C25: 30000 | D25: =VLOOKUP(C25,'Costos Directes i indirectes'!$A$33:$F$49,3,FALSE) -> 1596 | E25: =VLOOKUP(C25,'Costos Directes i indirectes'!$A$33:$F$49,6,FALSE) -> 3250 | F25: =ROUNDUP(E25,-2) -> 3300
A26: Delineant projectista | B26: - | C26: 25000 | D26: =VLOOKUP(C26,'Costos Directes i indirectes'!$A$33:$F$49,3,FALSE) -> 1368 | E26: =VLOOKUP(C26,'Costos Directes i indirectes'!$A$33:$F$49,6,FALSE) -> 2708.3333 | F26: =ROUNDUP(E26,-2) -> 2800
A28: *Altres tècnics d'altres disciplines de la mateixa categoria professional es valoraran d'acord a l'experiència i a l'especialitat.
A29: **Dietes i desplaçaments, segons s'indiqui en el document de proposta de contractació, es consideraran incloses dins del preu ofertat.
A31: Càlcul cost empresa
A32: Sou brut anual | B32: Sou brut mensual | C32: Sou net mensual | D32: IRPF | E32: Cost empresa anual | F32: Cost empresa mensual (COST DIRECTE)
A33: 20000 | B33: =A33/14 -> 1428.5714 | C33: 1125 | D33: =1-(C33/B33) -> 0.2125 | E33: =A33*1.3 -> 26000 | F33: =E33/12 -> 2166.6667
A34: =A33+5000 -> 25000 | B34: =A34/14 -> 1785.7143 | C34: 1368 | D34: =1-(C34/B34) -> 0.23392 | E34: =A34*1.3 -> 32500 | F34: =E34/12 -> 2708.3333
A35: =A34+5000 -> 30000 | B35: =A35/14 -> 2142.8571 | C35: 1596 | D35: =1-(C35/B35) -> 0.2552 | E35: =A35*1.3 -> 39000 | F35: =E35/12 -> 3250
A36: =A35+5000 -> 35000 | B36: =A36/14 -> 2500 | C36: 1825 | D36: =1-(C36/B36) -> 0.27 | E36: =A36*1.3 -> 45500 | F36: =E36/12 -> 3791.6667
A37: =A36+5000 -> 40000 | B37: =A37/14 -> 2857.1429 | C37: 2053 | D37: =1-(C37/B37) -> 0.28145 | E37: =A37*1.3 -> 52000 | F37: =E37/12 -> 4333.3333
A38: =A37+5000 -> 45000 | B38: =A38/14 -> 3214.2857 | C38: 2258 | D38: =1-(C38/B38) -> 0.29751111 | E38: =A38*1.3 -> 58500 | F38: =E38/12 -> 4875
A39: =A38+5000 -> 50000 | B39: =A39/14 -> 3571.4286 | C39: 2468 | D39: =1-(C39/B39) -> 0.30896 | E39: =A39*1.3 -> 65000 | F39: =E39/12 -> 5416.6667
A40: =A39+5000 -> 55000 | B40: =A40/14 -> 3928.5714 | C40: 2693 | D40: =1-(C40/B40) -> 0.31450909 | E40: =A40*1.3 -> 71500 | F40: =E40/12 -> 5958.3333
A41: =A40+5000 -> 60000 | B41: =A41/14 -> 4285.7143 | C41: 2917 | D41: =1-(C41/B41) -> 0.31936667 | E41: =A41*1.3 -> 78000 | F41: =E41/12 -> 6500
A42: =A41+5000 -> 65000 | B42: =A42/14 -> 4642.8571 | C42: 3143 | D42: =1-(C42/B42) -> 0.32304615 | E42: =A42*1.3 -> 84500 | F42: =E42/12 -> 7041.6667
A43: =A42+5000 -> 70000 | B43: =A43/14 -> 5000 | C43: 3342 | D43: =1-(C43/B43) -> 0.3316 | E43: =A43*1.3 -> 91000 | F43: =E43/12 -> 7583.3333
A44: =A43+5000 -> 75000 | B44: =A44/14 -> 5357.1429 | C44: 3538 | D44: =1-(C44/B44) -> 0.33957333 | E44: =A44*1.3 -> 97500 | F44: =E44/12 -> 8125
A45: =A44+5000 -> 80000 | B45: =A45/14 -> 5714.2857 | C45: 3734 | D45: =1-(C45/B45) -> 0.34655 | E45: =A45*1.3 -> 104000 | F45: =E45/12 -> 8666.6667
... A49: =A48+5000 -> 100000 | B49: =A49/14 -> 7142.8571 | C49: 4520 | D49: =1-(C49/B49) -> 0.3672 | E49: =A49*1.3 -> 130000 | F49: =E49/12 -> 10833.333

Sheet Càlcul cost projecte
A1: RENOVACIÓ DE L'ABASTAMENT A SANT CUGAT DEL VALLÈS
A2: EQUIP DE REDACCIÓ DE PROJECTE- PRESSUPOST DE LICITACIÓ
A4: FASE DE REDACCIÓ DEL PROJECTE | F4: =F5+F21+F97 -> 88936.067 | O4: =O5+O25 -> #REF!
A5: DESPESES DIRECTES | F5: =SUM(F8:F20) -> 75520 | H5: DESPESES DIRECTES, INDIRECTES, BENEFICI I DESPESES GENERALS | O5: =SUM(O8:O24) -> #REF!
A6: (A) Mitjans personals | F6: =SUM(F8:F20) -> 75520 | H6: (A) Mitjans personals i auxiliars | M6: =SUM(M8:M22) -> 120000
B7: Unitat | C7: Preu unitari (€/ut.) | D7: Dedicació (%) | E7: Amidament | F7: Import (€) | I7: Unitat | J7: Preu unitari (€/ut.) | K7: Dedicació (%) | L7: Amidament | M7: Import (€)
A8: Autor de projecte (15) | B8: mes | C8: =VLOOKUP(A8,'Costos Directes i indirectes'!$A$3:$F$26,6,FALSE) -> 6500 | D8: 20 | E8: 8 | F8: =C8*(D8/100)*E8 -> 10400 | H8: =A8 -> Autor de projecte (15) | I8: =B8 -> mes | J8: =21575.08/(8*0.3) -> 8989.6167 | K8: =D8 -> 20 | L8: =E8 -> 8 | M8: =J8*(K8/100)*L8 -> 14383.387 | O8: =#REF!*1.19 -> #REF!
A9: Adjunt autor de projecte (10) | B9: mes | C9: =VLOOKUP(A9,'Costos Directes i indirectes'!$A$3:$F$26,6,FALSE) -> 4900 | D9: 50 | E9: 8 | F9: =C9*(D9/100)*E9 -> 19600 | H9: =A9 -> Adjunt autor de projecte (10) | I9: =B9 -> mes | J9: =((C9+C36)+C26)*(1+$F$105+$F$106) -> 6795.1921 | K9: =D9 -> 50 | L9: =E9 -> 8 | M9: =J9*(K9/100)*L9 -> 27180.768 | O9: =#REF!*1.19 -> #REF!
A10: Tècnic geotècnia | B10: mes | C10: =VLOOKUP(A10,'Costos Directes i indirectes'!$A$3:$F$26,6,FALSE) -> 3800 | D10: 50 | E10: 1 | F10: =C10*(D10/100)*E10 -> 1900 | H10: =A10 -> Tècnic geotècnia | I10: =B10 -> mes | J10: =(C10+C41)*(1+$F$105+$F$106) -> 5242.5 | K10: =D10 -> 50 | L10: =E10 -> 1 | M10: =J10*(K10/100)*L10 -> 2621.25 | O10: =#REF!*1.19 -> #REF!
A11: Tècnic càlculs hidràulics | B11: mes | C11: =VLOOKUP(A11,'Costos Directes i indirectes'!$A$3:$F$26,6,FALSE) -> 3800 | D11: 50 | E11: 1 | F11: =C11*(D11/100)*E11 -> 1900 | H11: =A11 -> Tècnic càlculs hidràulics | I11: =B11 -> mes | J11: =(C11+C46)*(1+$F$105+$F$106) -> 5242.5 | K11: =D11 -> 50 | L11: =E11 -> 1 | M11: =J11*(K11/100)*L11 -> 2621.25 | O11: =#REF!*1.19 -> #REF!
A12: Tècnic calculs estructurals | B12: mes | C12: =VLOOKUP(A12,'Costos Directes i indirectes'!$A$3:$F$26,6,FALSE) -> 3800 | D12: 50 | E12: 2 | F12: =C12*(D12/100)*E12 -> 3800 | H12: =A12 -> Tècnic calculs estructurals | I12: =B12 -> mes | J12: =(C12+C51)*(1+$F$105+$F$106) -> 5242.5 | K12: =D12 -> 50 | L12: =E12 -> 2 | M12: =J12*(K12/100)*L12 -> 5242.5
A13: Tècnic automatització i telecontrol | B13: mes | C13: =VLOOKUP(A13,'Costos Directes i indirectes'!$A$3:$F$26,6,FALSE) -> 3800 | D13: 50 | E13: 1 | F13: =C13*(D13/100)*E13 -> 1900 | H13: =A13 -> Tècnic automatització i telecontrol | I13: =B13 -> mes | J13: =(C13+C56)*(1+$F$105+$F$106) -> 5242.5 | K13: =D13 -> 50 | L13: =E13 -> 1 | M13: =J13*(K13/100)*L13 -> 2621.25
A14: Tècnic equips i instal·lacions elèctriques | B14: mes | C14: =VLOOKUP(A14,'Costos Directes i indirectes'!$A$3:$F$26,6,FALSE) -> 3800 | D14: 50 | E14: 1 | F14: =C14*(D14/100)*E14 -> 1900 | H14: =A14 -> Tècnic equips i instal·lacions elèctriques | I14: =B14 -> mes | J14: =(C14+C61)*(1+$F$105+$F$106) -> 5242.5 | K14: =D14 -> 50 | L14: =E14 -> 1 | M14: =J14*(K14/100)*L14 -> 2621.25
A15: Tècnic equips electromecànics | B15: mes | C15: =VLOOKUP(A15,'Costos Directes i indirectes'!$A$3:$F$26,6,FALSE) -> 3800 | D15: 20 | E15: 1 | F15: =C15*(D15/100)*E15 -> 760 | H15: =A15 -> Tècnic equips electromecànics | I15: =B15 -> mes | J15: =(C15+C66)*(1+$F$105+$F$106) -> 5242.5 | K15: =D15 -> 20 | L15: =E15 -> 1 | M15: =J15*(K15/100)*L15 -> 1048.5
A16: Tècnic medi ambient | B16: mes | C16: =VLOOKUP(A16,'Costos Directes i indirectes'!$A$3:$F$26,6,FALSE) -> 3800 | D16: 50 | E16: 4 | F16: =C16*(D16/100)*E16 -> 7600 | H16: =A16 -> Tècnic medi ambient | I16: =B16 -> mes | J16: =(C16+C71)*(1+$F$105+$F$106) -> 5242.5 | K16: =D16 -> 50 | L16: =E16 -> 4 | M16: =J16*(K16/100)*L16 -> 10485 | O16: =#REF!*1.19 -> #REF!
A17: Tècnic de seguretat i salut | B17: mes | C17: =VLOOKUP(A17,'Costos Directes i indirectes'!$A$3:$F$26,6,FALSE) -> 3800 | D17: 40 | E17: 1 | F17: =C17*(D17/100)*E17 -> 1520 | H17: =A17 -> Tècnic de seguretat i salut | I17: =B17 -> mes | J17: =(C17+C76)*(1+$F$105+$F$106) -> 5242.5 | K17: =D17 -> 40 | L17: =E17 -> 1 | M17: =J17*(K17/100)*L17 -> 2097
A18: BIM Manager | B18: mes | C18: =VLOOKUP(A18,'Costos Directes i indirectes'!$A$3:$F$26,6,FALSE) -> 4900 | D18: 20 | E18: 4 | F18: =C18*(D18/100)*E18 -> 3920 | H18: =A18 -> BIM Manager | I18: =B18 -> mes | J18: =(C18+C81)*(1+$F$105+$F$106) -> 6727.5 | K18: =D18 -> 20 | L18: =E18 -> 4 | M18: =J18*(K18/100)*L18 -> 5382
A19: Modelador BIM | B19: mes | C19: =VLOOKUP(A19,'Costos Directes i indirectes'!$A$3:$F$26,6,FALSE) -> 3800 | D19: 60 | E19: 4 | F19: =C19*(D19/100)*E19 -> 9120 | H19: =A19 -> Modelador BIM | I19: =B19 -> mes | J19: =(C19+C86)*(1+$F$105+$F$106) -> 5242.5 | K19: =D19 -> 60 | L19: =E19 -> 4 | M19: =J19*(K19/100)*L19 -> 12582
A20: Delineant projectista | B20: mes | C20: =VLOOKUP(A20,'Costos Directes i indirectes'!$A$3:$F$26,6,FALSE) -> 2800 | D20: 50 | E20: 8 | F20: =C20*(D20/100)*E20 -> 11200 | H20: =A20 -> Delineant projectista | I20: =B20 -> mes | J20: =(C20+C91)*(1+$F$105+$F$106) -> 3892.5 | K20: =D20 -> 50 | L20: =E20 -> 8 | M20: =J20*(K20/100)*L20 -> 15570 | O20: =#REF!*1.19 -> #REF!
A21: DESPESES INDIRECTES | F21: =F22+F28 -> 1902.107 | H21: =A100 -> Campanya topografia/Georadar (jornades camp i oficina) | I21: =B100 -> Jornada | J21: =(C100)*(1+$F$105+$F$106) -> 675 | L21: =E100 -> 7 | M21: =L21*J21 -> 4725 | O21: =#REF!*1.19 -> #REF!
A22: (B) Visites | F22: =F24+F26 -> 350.99591 | H22: =A101 -> Campanya Geotècnia COMPLETA (cales + 4 sondejos + informe) | I22: =B101 -> PA | J22: =(C101)*(1+$F$105+$F$106) -> 10818.846 | L22: =E101 -> 1 | M22: =L22*J22 -> 10818.846 | O22: =#REF!*1.19 -> #REF!
B23: Unitat | C23: Preu unitari (€/ut.) | E23: Amidament | F23: Import (€) | O23: =#REF!*1.19 -> #REF!
A24: =A8 -> Autor de projecte (15) | B24: mes | C24: =F25/(E8*(D8/100)) -> 94.016761 | D24: =D8 -> 20 | E24: =E8 -> 8 | F24: =C24*(D24/100)*E24 -> 150.42682 | O24: =#REF!*1.19 -> #REF!
A25: Import visita | B25: ut | C25: ='Costos Directes i indirectes'!I21 -> 50.142273 | E25: 3 | F25: =C25*E25 -> 150.42682 | O25: =#REF! -> #REF!
A26: =A9 -> Adjunt autor de projecte (10) | B26: mes | C26: =F27/(E9*(D9/100)) -> 50.142273 | D26: =D9 -> 50 | E26: =E9 -> 8 | F26: =C26*(D26/100)*E26 -> 200.56909 | O26: =#REF! -> #REF!
A27: Import visita | B27: ut | C27: ='Costos Directes i indirectes'!I21 -> 50.142273 | E27: 4 | F27: =C27*E27 -> 200.56909
A28: (c) Equips informàtics i mobiliari | F28: =F30+F36+F41+F46+F51+F56+F61+F66+F71+F76+F91+F81+F86 -> 1551.1111
B29: Unitat | C29: Preu unitari (€/ut.) | D29: Dedicació (%) | E29: Amidament | F29: Import (€)
A30: =A24 -> Autor de projecte (15) | B30: mes | C30: =SUM(C31:C35) -> 94.444444 | D30: =D8 -> 20 | E30: =E8 -> 8 | F30: =C30*(D30/100)*E30 -> 151.11111
A31: Impresora | B31: mes | C31: =VLOOKUP(A31,'Costos Directes i indirectes'!$K$5:$N$7,4,FALSE) -> 11.111111
A32: Ordinador | B32: mes | C32: =VLOOKUP(A32,'Costos Directes i indirectes'!$K$5:$N$7,4,FALSE) -> 22.222222
A33: Telèfon | B33: mes | C33: =VLOOKUP(A33,'Costos Directes i indirectes'!$K$5:$N$7,4,FALSE) -> 11.111111
A34: Software | B34: mes | C34: ='Costos Directes i indirectes'!$S$5 -> 25
A35: Mobiliari | B35: mes | C35: ='Costos Directes i indirectes'!$S$5 -> 25
A36: =A9 -> Adjunt autor de projecte (10) | B36: mes | C36: =SUM(C37:C40) -> 83.333333 | D36: =D9 -> 50 | E36: =E9 -> 8 | F36: =C36*(D36/100)*E36 -> 333.33333
A37: Ordinador | B37: mes | C37: =VLOOKUP(A37,'Costos Directes i indirectes'!$K$5:$N$7,4,FALSE) -> 22.222222
A38: Telèfon | B38: mes | C38: =VLOOKUP(A38,'Costos Directes i indirectes'!$K$5:$N$7,4,FALSE) -> 11.111111
A39: Software | B39: mes | C39: ='Costos Directes i indirectes'!$S$5 -> 25
A40: Mobiliari | B40: mes | C40: ='Costos Directes i indirectes'!$S$5 -> 25
A41: =A10 -> Tècnic geotècnia | B41: mes | C41: =SUM(C42:C45) -> 83.333333 | D41: =D10 -> 50 | E41: =E10 -> 1 | F41: =C41*(D41/100)*E41 -> 41.666667
A42: Ordinador | B42: mes | C42: =VLOOKUP(A42,'Costos Directes i indirectes'!$K$5:$N$7,4,FALSE) -> 22.222222
A43: Telèfon | B43: mes | C43: =VLOOKUP(A43,'Costos Directes i indirectes'!$K$5:$N$7,4,FALSE) -> 11.111111 | O43: =O44+O53 -> 64496.107
A44: Software | B44: mes | C44: ='Costos Directes i indirectes'!$S$5 -> 25 | O44: =SUM(O47:O52) -> 62594
A45: Mobiliari | B45: mes | C45: ='Costos Directes i indirectes'!$S$5 -> 25
A46: =A11 -> Tècnic càlculs hidràulics | B46: mes | C46: =SUM(C47:C50) -> 83.333333 | D46: =D11 -> 50 | E46: =E11 -> 1 | F46: =C46*(D46/100)*E46 -> 41.666667
A47: Ordinador | B47: mes | C47: =VLOOKUP(A47,'Costos Directes i indirectes'!$K$5:$N$7,4,FALSE) -> 22.222222 | O47: =F8*1.19 -> 12376
A48: Telèfon | B48: mes | C48: =VLOOKUP(A48,'Costos Directes i indirectes'!$K$5:$N$7,4,FALSE) -> 11.111111 | O48: =F9*1.19 -> 23324
A49: Software | B49: mes | C49: ='Costos Directes i indirectes'!$S$5 -> 25 | O49: =F10*1.19 -> 2261
A50: Mobiliari | B50: mes | C50: ='Costos Directes i indirectes'!$S$5 -> 25 | O50: =F11*1.19 -> 2261
A51: =A12 -> Tècnic calculs estructurals | B51: mes | C51: =SUM(C52:C55) -> 83.333333 | D51: =D12 -> 50 | E51: =E12 -> 2 | F51: =C51*(D51/100)*E51 -> 83.333333 | O51: =F16*1.19 -> 9044
A52: Ordinador | B52: mes | C52: =VLOOKUP(A52,'Costos Directes i indirectes'!$K$5:$N$7,4,FALSE) -> 22.222222 | O52: =F20*1.19 -> 13328
A53: Telèfon | B53: mes | C53: =VLOOKUP(A53,'Costos Directes i indirectes'!$K$5:$N$7,4,FALSE) -> 11.111111 | O53: =F21 -> 1902.107
A54: Software | B54: mes | C54: ='Costos Directes i indirectes'!$S$5 -> 25 | O54: =#REF! -> #REF!
A55: Mobiliari | B55: mes | C55: ='Costos Directes i indirectes'!$S$5 -> 25
A56: =A13 -> Tècnic automatització i telecontrol | B56: mes | C56: =SUM(C57:C60) -> 83.333333 | D56: =D13 -> 50 | E56: =E13 -> 1 | F56: =C56*(D56/100)*E56 -> 41.666667
A57: Ordinador | B57: mes | C57: =VLOOKUP(A57,'Costos Directes i indirectes'!$K$5:$N$7,4,FALSE) -> 22.222222
A58: Telèfon | B58: mes | C58: =VLOOKUP(A58,'Costos Directes i indirectes'!$K$5:$N$7,4,FALSE) -> 11.111111
A59: Software | B59: mes | C59: ='Costos Directes i indirectes'!$S$5 -> 25
A60: Mobiliari | B60: mes | C60: ='Costos Directes i indirectes'!$S$5 -> 25
A61: =A14 -> Tècnic equips i instal·lacions elèctriques | B61: mes | C61: =SUM(C62:C65) -> 83.333333 | D61: =D14 -> 50 | E61: =E14 -> 1 | F61: =C61*(D61/100)*E61 -> 41.666667
A62: Ordinador | B62: mes | C62: =VLOOKUP(A62,'Costos Directes i indirectes'!$K$5:$N$7,4,FALSE) -> 22.222222
A63: Telèfon | B63: mes | C63: =VLOOKUP(A63,'Costos Directes i indirectes'!$K$5:$N$7,4,FALSE) -> 11.111111
A64: Software | B64: mes | C64: ='Costos Directes i indirectes'!$S$5 -> 25
A65: Mobiliari | B65: mes | C65: ='Costos Directes i indirectes'!$S$5 -> 25
A66: =A15 -> Tècnic equips electromecànics | B66: mes | C66: =SUM(C67:C70) -> 83.333333 | D66: =D15 -> 20 | E66: =E15 -> 1 | F66: =C66*(D66/100)*E66 -> 16.666667
A67: Ordinador | B67: mes | C67: =VLOOKUP(A67,'Costos Directes i indirectes'!$K$5:$N$7,4,FALSE) -> 22.222222
A68: Telèfon | B68: mes | C68: =VLOOKUP(A68,'Costos Directes i indirectes'!$K$5:$N$7,4,FALSE) -> 11.111111
A69: Software | B69: mes | C69: ='Costos Directes i indirectes'!$S$5 -> 25
A70: Mobiliari | B70: mes | C70: ='Costos Directes i indirectes'!$S$5 -> 25
A71: =A16 -> Tècnic medi ambient | B71: mes | C71: =SUM(C72:C75) -> 83.333333 | D71: =D16 -> 50 | E71: =E16 -> 4 | F71: =C71*(D71/100)*E71 -> 166.66667
A72: Ordinador | B72: mes | C72: =VLOOKUP(A72,'Costos Directes i indirectes'!$K$5:$N$7,4,FALSE) -> 22.222222
A73: Telèfon | B73: mes | C73: =VLOOKUP(A73,'Costos Directes i indirectes'!$K$5:$N$7,4,FALSE) -> 11.111111
A74: Software | B74: mes | C74: ='Costos Directes i indirectes'!$S$5 -> 25
A75: Mobiliari | B75: mes | C75: ='Costos Directes i indirectes'!$S$5 -> 25
A76: =A17 -> Tècnic de seguretat i salut | B76: mes | C76: =SUM(C77:C80) -> 83.333333 | D76: =D17 -> 40 | E76: =E17 -> 1 | F76: =C76*(D76/100)*E76 -> 33.333333
A77: Ordinador | B77: mes | C77: =VLOOKUP(A77,'Costos Directes i indirectes'!$K$5:$N$7,4,FALSE) -> 22.222222
A78: Telèfon | B78: mes | C78: =VLOOKUP(A78,'Costos Directes i indirectes'!$K$5:$N$7,4,FALSE) -> 11.111111
A79: Software | B79: mes | C79: ='Costos Directes i indirectes'!$S$5 -> 25
A80: Mobiliari | B80: mes | C80: ='Costos Directes i indirectes'!$S$5 -> 25
A81: =A18 -> BIM Manager | B81: mes | C81: =SUM(C82:C85) -> 83.333333 | D81: =D18 -> 20 | E81: =E18 -> 4 | F81: =C81*(D81/100)*E81 -> 66.666667
A82: Ordinador | B82: mes | C82: =VLOOKUP(A82,'Costos Directes i indirectes'!$K$5:$N$7,4,FALSE) -> 22.222222
A83: Telèfon | B83: mes | C83: =VLOOKUP(A83,'Costos Directes i indirectes'!$K$5:$N$7,4,FALSE) -> 11.111111
A84: Software | B84: mes | C84: ='Costos Directes i indirectes'!$S$5 -> 25
A85: Mobiliari | B85: mes | C85: ='Costos Directes i indirectes'!$S$5 -> 25
A86: =A19 -> Modelador BIM | B86: mes | C86: =SUM(C87:C90) -> 83.333333 | D86: =D19 -> 60 | E86: =E19 -> 4 | F86: =C86*(D86/100)*E86 -> 200
A87: Ordinador | B87: mes | C87: =VLOOKUP(A87,'Costos Directes i indirectes'!$K$5:$N$7,4,FALSE) -> 22.222222
A88: Telèfon | B88: mes | C88: =VLOOKUP(A88,'Costos Directes i indirectes'!$K$5:$N$7,4,FALSE) -> 11.111111
A89: Software | B89: mes | C89: ='Costos Directes i indirectes'!$S$5 -> 25
A90: Mobiliari | B90: mes | C90: ='Costos Directes i indirectes'!$S$5 -> 25
A91: =A20 -> Delineant projectista | B91: mes | C91: =SUM(C92:C95) -> 83.333333 | D91: =D20 -> 50 | E91: =E20 -> 8 | F91: =C91*(D91/100)*E91 -> 333.33333
A92: Ordinador | B92: mes | C92: =VLOOKUP(A92,'Costos Directes i indirectes'!$K$5:$N$7,4,FALSE) -> 22.222222 | O92: =O93+#REF! -> #REF!
A93: Telèfon | B93: mes | C93: =VLOOKUP(A93,'Costos Directes i indirectes'!$K$5:$N$7,4,FALSE) -> 11.111111 | O93: =SUM(O102:O104) -> #REF!
A94: Software | B94: mes | C94: ='Costos Directes i indirectes'!$S$5 -> 25
A95: Mobiliari | B95: mes | C95: ='Costos Directes i indirectes'!$S$5 -> 25
A97: ALTRES TREBALLS | F97: =F101+F100 -> 11513.96
B98: Unitat | C98: Preu unitari | E98: Amidament | F98: Import (€)
C99: (€/ut.)
A100: Campanya topografia/Georadar (jornades camp i oficina) | B100: Jornada | C100: 500 | E100: 7 | F100: =E100*C100 -> 3500
A101: Campanya Geotècnia COMPLETA (cales + 4 sondejos + informe) | B101: PA | C101: 8013.96 | E101: 1 | F101: =E101*C101 -> 8013.96
O102: =#REF!*1.19 -> #REF!
...

Sheet Resum 
A1: ='Càlcul cost projecte'!A1 -> RENOVACIÓ DE L'ABASTAMENT A SANT CUGAT DEL VALLÈS
A2: ='Càlcul cost projecte'!A2 -> EQUIP DE REDACCIÓ DE PROJECTE- PRESSUPOST DE LICITACIÓ
B3: (A) Mitjans personals i mitjans auxiliars | C3: Unitat | D3: Preu unitari (€/ut.) | E3: Dedicació (%) | F3: Amidament | G3: Import (€)
A4: P1 | B4: ='Càlcul cost projecte'!H8 -> Autor de projecte (15) | C4: ='Càlcul cost projecte'!I8 -> mes | D4: ='Càlcul cost projecte'!J8 -> 8989.6167 | E4: ='Càlcul cost projecte'!K8 -> 20 | F4: ='Càlcul cost projecte'!L8 -> 8 | G4: =F4*(E4/100)*D4 -> 14383.387
A5: P2 | B5: ='Càlcul cost projecte'!H9 -> Adjunt autor de projecte (10) | C5: ='Càlcul cost projecte'!I9 -> mes | D5: ='Càlcul cost projecte'!J9 -> 6795.1921 | E5: ='Càlcul cost projecte'!K9 -> 50 | F5: ='Càlcul cost projecte'!L9 -> 8 | G5: =F5*(E5/100)*D5 -> 27180.768
A6: P3 | B6: ='Càlcul cost projecte'!H10 -> Tècnic geotècnia | C6: ='Càlcul cost projecte'!I10 -> mes | D6: ='Càlcul cost projecte'!J10 -> 5242.5 | E6: ='Càlcul cost projecte'!K10 -> 50 | F6: ='Càlcul cost projecte'!L10 -> 1 | G6: =F6*(E6/100)*D6 -> 2621.25
A7: P4 | B7: ='Càlcul cost projecte'!H11 -> Tècnic càlculs hidràulics | C7: ='Càlcul cost projecte'!I11 -> mes | D7: ='Càlcul cost projecte'!J11 -> 5242.5 | E7: ='Càlcul cost projecte'!K11 -> 50 | F7: ='Càlcul cost projecte'!L11 -> 1 | G7: =F7*(E7/100)*D7 -> 2621.25
A8: P5 | B8: ='Càlcul cost projecte'!H12 -> Tècnic calculs estructurals | C8: ='Càlcul cost projecte'!I12 -> mes | D8: ='Càlcul cost projecte'!J12 -> 5242.5 | E8: ='Càlcul cost projecte'!K12 -> 50 | F8: ='Càlcul cost projecte'!L12 -> 2 | G8: =F8*(E8/100)*D8 -> 5242.5
A9: P6 | B9: ='Càlcul cost projecte'!H13 -> Tècnic automatització i telecontrol | C9: ='Càlcul cost projecte'!I13 -> mes | D9: ='Càlcul cost projecte'!J13 -> 5242.5 | E9: ='Càlcul cost projecte'!K13 -> 50 | F9: ='Càlcul cost projecte'!L13 -> 1 | G9: =F9*(E9/100)*D9 -> 2621.25
A10: P7 | B10: ='Càlcul cost projecte'!H14 -> Tècnic equips i instal·lacions elèctriques | C10: ='Càlcul cost projecte'!I14 -> mes | D10: ='Càlcul cost projecte'!J14 -> 5242.5 | E10: ='Càlcul cost projecte'!K14 -> 50 | F10: ='Càlcul cost projecte'!L14 -> 1 | G10: =F10*(E10/100)*D10 -> 2621.25
A11: P8 | B11: ='Càlcul cost projecte'!H15 -> Tècnic equips electromecànics | C11: ='Càlcul cost projecte'!I15 -> mes | D11: ='Càlcul cost projecte'!J15 -> 5242.5 | E11: ='Càlcul cost projecte'!K15 -> 20 | F11: ='Càlcul cost projecte'!L15 -> 1 | G11: =F11*(E11/100)*D11 -> 1048.5
A12: P9 | B12: ='Càlcul cost projecte'!H16 -> Tècnic medi ambient | C12: ='Càlcul cost projecte'!I16 -> mes | D12: ='Càlcul cost projecte'!J16 -> 5242.5 | E12: ='Càlcul cost projecte'!K16 -> 50 | F12: ='Càlcul cost projecte'!L16 -> 4 | G12: =F12*(E12/100)*D12 -> 10485
A13: P10 | B13: ='Càlcul cost projecte'!H17 -> Tècnic de seguretat i salut | C13: ='Càlcul cost projecte'!I17 -> mes | D13: ='Càlcul cost projecte'!J17 -> 5242.5 | E13: ='Càlcul cost projecte'!K17 -> 40 | F13: ='Càlcul cost projecte'!L17 -> 1 | G13: =F13*(E13/100)*D13 -> 2097
A14: P11 | B14: ='Càlcul cost projecte'!H18 -> BIM Manager | C14: ='Càlcul cost projecte'!I18 -> mes | D14: ='Càlcul cost projecte'!J18 -> 6727.5 | E14: ='Càlcul cost projecte'!K18 -> 20 | F14: ='Càlcul cost projecte'!L18 -> 4 | G14: =F14*(E14/100)*D14 -> 5382
A15: P12 | B15: ='Càlcul cost projecte'!H19 -> Modelador BIM | C15: ='Càlcul cost projecte'!I19 -> mes | D15: ='Càlcul cost projecte'!J19 -> 5242.5 | E15: ='Càlcul cost projecte'!K19 -> 60 | F15: ='Càlcul cost projecte'!L19 -> 4 | G15: =F15*(E15/100)*D15 -> 12582
A16: P13 | B16: ='Càlcul cost projecte'!H20 -> Delineant projectista | C16: ='Càlcul cost projecte'!I20 -> mes | D16: ='Càlcul cost projecte'!J20 -> 3892.5 | E16: 50 | F16: ='Càlcul cost projecte'!L20 -> 8 | G16: =F16*(E16/100)*D16 -> 15570
A17: P14 | B17: ='Càlcul cost projecte'!H21 -> Campanya topografia/Georadar (jornades camp i oficina) | C17: Jornada | D17: ='Càlcul cost projecte'!J21 -> 675 | F17: ='Càlcul cost projecte'!L21 -> 7 | G17: =F17*D17 -> 4725 | J17: =1250/8 -> 156.25
A18: P15 | B18: ='Càlcul cost projecte'!H22 -> Campanya Geotècnia COMPLETA (cales + 4 sondejos + informe) | C18: ='Càlcul cost projecte'!I22 -> PA | D18: ='Càlcul cost projecte'!J22 -> 10818.846 | F18: ='Càlcul cost projecte'!L22 -> 1 | G18: =F18*D18 -> 10818.846
F19: Total (A) | G19: =SUM(G4:G18) -> 120000 | I19: =G21*0.7 -> 84000.001 | J19: 0.7
I20: =G21*1.25 -> 150000 | J20: 1.25
A21: Total serveis PROJECTE | E21: Total=(A)+(B) | G21: =G19 -> 120000 | I21: =15/130*G21 -> 13846.154 | K21: 14794
E22: IVA | G22: =0.21*G21 -> 25200 | I22: =G21-I21 -> 106153.85 | K22: 113420.59
A23: (*) La partida P15 no es pot modificar a la baixa. | E23: Total amb IVA | G23: =G21+G22 -> 145200 | I23: =SUM(I21:I22) -> 120000 | K23: =K21+K22 -> 128214.59
C27: % | D27: IMPORT
B28: COSTOS DIRECTES | C28: 0.979 | D28: =G21*C28 -> 117480
B29: COSTOS INDIRECTES | C29: 0.021 | D29: =G21*C29 -> 2520
B30: COSTOS TOTALS | D30: =SUM(D28:D29) -> 120000

Sheet Hoja1
A1: ='Càlcul cost projecte'!A1 -> RENOVACIÓ DE L'ABASTAMENT A SANT CUGAT DEL VALLÈS
A2: ='Càlcul cost projecte'!A2 -> EQUIP DE REDACCIÓ DE PROJECTE- PRESSUPOST DE LICITACIÓ
B3: (A) Mitjans personals i mitjans auxiliars | C3: Unitat | D3: Preu unitari (€/ut.) | E3: Dedicació (%) | F3: Amidament | G3: Import (€)
A4: P1 | B4: Autor de projecte (20) | C4: mes | E4: 20 | F4: 8
A5: P2 | B5: Adjunt autor de projecte (10) | C5: mes | E5: 50 | F5: 8
A6: P3 | B6: Tècnic geotècnia | C6: mes | E6: 50 | F6: 1
A7: P4 | B7: Tècnic càlculs hidràulics | C7: mes | E7: 50 | F7: 1
A8: P5 | B8: Tècnic càlculs estructurals | C8: mes | E8: 50 | F8: 2
A9: P6 | B9: Tècnic automatització i telecontrol | C9: mes | E9: 50 | F9: 1
A10: P7 | B10: Tècnic equips i instal·lacions elèctriques | C10: mes | E10: 50 | F10: 1
A11: P8 | B11: Tècnic equips electromecànics | C11: mes | E11: 20 | F11: 1
A12: P9 | B12: Tècnic medi ambient | C12: mes | E12: 50 | F12: 4
A13: P10 | B13: Tècnic de seguretat i salut | C13: mes | E13: 40 | F13: 1
A14: P11 | B14: BIM Manager | C14: mes | E14: 20 | F14: 4
A15: P12 | B15: Modelador BIM | C15: mes | E15: 60 | F15: 4
A16: P13 | B16: Delineant projectista | C16: mes | E16: 50 | F16: 8
A17: P14 | B17: Campanya topografia/Georadar (jornades camp i oficina) | C17: Jornada | F17: 7
A18: P15 | B18: Campanya Geotècnia COMPLETA (cales + 4 sondejos + informe) | C18: PA | D18: 10818.85 | F18: 1 | G18: =F18*D18 -> 10818.85
F19: Total (A)
A21: Total serveis PROJECTE | E21: Total=(A)+(B)
E22: IVA
A23: (*) La partida P15 no es pot modificar a la baixa. | E23: Total amb IVA
