Workbook

Sheet RESUM PRESSUPOST
B3: Resum desglossat imports anuals
E5: 2025 | G5: 2026 | I5: 2027
E6: Licitació | F6: Oferta | G6: Licitació | H6: Oferta | I6: Licitació | J6: Oferta
B7: Subministrament i Manteniment Drons terrestres | E7: =DESGLOSSAT!E19 -> 300800 | F7: =DESGLOSSAT!F19 -> 0 | G7: =DESGLOSSAT!E20 -> 21500 | H7: =DESGLOSSAT!F20 -> 0 | I7: =DESGLOSSAT!E21 -> 17500 | J7: =DESGLOSSAT!F21 -> 0
B11: TOTAL PRESSUPOST | E11: Subministrament Drons Terrestres
B12: TOTAL Licitació (sense IVA) | E12: =E7+G7+I7 -> 339800
B13: TOTAL Oferta (sense IVA) | E13: =F7+H7+J7 -> 0
C15: Pressupost final | D15: Import IVA | E15: Pressupost base IVA inclòs
B16: Licitació | C16: =E12 -> 339800 | D16: =C16*0.21 -> 71358 | E16: =C16+D16 -> 411158
B17: Oferta | C17: =E13 -> 0 | D17: =C17*0.21 -> 0 | E17: =C17+D17 -> 0

Sheet DESGLOSSAT
F4: LICITACIÓ | L4: OFERTA
F5: Any 2025 | H5: Any 2026 | J5: Any 2027 | L5: Total 2025 | M5: Total 2026 | N5: Total 2027
D6: Preu Unitari LICITACIÓ | E6: Preu unitari OFERTA | F6: Amidaments | G6: Total 2025 | H6: Amidaments | I6: Total 2026 | J6: Amidaments | K6: Total 2027
C7: Posada en marxa, mapeig i formació | D7: 2000 | F7: 5 | G7: =D7*F7 -> 10000 | H7: 2 | I7: =D7*H7 -> 4000 | J7: 0 | K7: 0 | L7: =E7*F7 -> 0 | M7: =E7*H7 -> 0 | N7: =J7*E7 -> 0
C8: Subministrament Dron Terrestre | D8: 53500 | F8: 5 | G8: =D8*F8 -> 267500 | H8: 0 | I8: 0 | J8: 0 | K8: 0 | L8: =E8*F8 -> 0 | M8: =E8*H8 -> 0 | N8: =J8*E8 -> 0
C9: Subministrament Docksation | D9: 2200 | F9: 5 | G9: =D9*F9 -> 11000 | H9: 0 | I9: 0 | J9: 0 | K9: 0 | L9: =E9*F9 -> 0 | M9: =E9*H9 -> 0 | N9: =J9*E9 -> 0
C10: Subministrament i instal·lació caseta exterior amb petita obra civil | D10: 3000 | F10: 2 | G10: =D10*F10 -> 6000 | H10: 0 | I10: 0 | J10: 0 | K10: 0 | L10: =E10*F10 -> 0 | M10: =E10*H10 -> 0 | N10: =J10*E10 -> 0
C11: Subministrament i instal·lació caseta exterior sense obra civil | D11: 2100 | F11: 3 | G11: =D11*F11 -> 6300 | H11: 0 | I11: 0 | J11: 0 | K11: 0 | L11: =E11*F11 -> 0 | M11: =E11*H11 -> 0 | N11: =J11*E11 -> 0
C12: Manteniment d'incidències per robot anual | D12: 3500 | F12: 0 | G12: =D12*F12 -> 0 | H12: 5 | I12: =D12*H12 -> 17500 | J12: 5 | K12: =J12*D12 -> 17500 | L12: =E12*F12 -> 0 | M12: =E12*H12 -> 0 | N12: =J12*E12 -> 0
E18: import licitació | F18: import oferta
D19: 2025 | E19: =SUM(G7:G12) -> 300800 | F19: =SUM(L7:L12) -> 0
D20: 2026 | E20: =SUM(I7:I12) -> 21500 | F20: =SUM(M7:M12) -> 0
D21: 2027 | E21: =SUM(K7:K12) -> 17500 | F21: =SUM(N7:N12) -> 0
