Workbook

Sheet PREUS SIMPLES
B1: Base preus de treballs no planificats
B3: CAPÍTOL II: PREUS SIMPLES PEL MANTENIMENT CORRECTIU | G3: cal indicar el % que s'oferta
B5: MÀ D'OBRA
B6: CODI | C6: Unitats | D6: Descripció | E6: Preu unitari | F6: Preu ofertat | G6: 0 | H6: Baixa lineal (%P2)
B7: MO-01 | C7: h | D7: Enginyer Especialista | E7: 59.13 | F7: =E7*(1-G$6) -> 59.13
B8: MO-02 | C8: h | D8: Tècnic Especialista | E8: 50.53 | F8: =E8*(1-G$6) -> 50.53
B9: MO-03 | C9: Km | D9: Preu per km de desplaçament | E9: 0.71 | F9: =E9*(1-G$6) -> 0.71
B11: MATERIALS
B12: CODI | C12: Unitats | D12: Descripció | E12: Preu licitació | F12: Preu ofertat | G12: 0 | H12: Baixa lineal (%P3)
B13: MAT-01 | C13: ut. | D13: Descripció | E13: 175.33 | F13: =E13*(1-G$12) -> 175.33
B14: MAT-02 | C14: ut. | D14: Amperímetre EPC model ARGO | E14: 261.23 | F14: =E14*(1-G$12) -> 261.23
B15: MAT-03 | C15: ut. | D15: Ànode Ti (MMO) platina 1500x20x3mm | E15: 725.63 | F15: =E15*(1-G$12) -> 725.63
B16: MAT-04 | C16: kg. | D16: Ànode Tubular TiMMO 25 mm x 1000 mm amb unió del cable a la part central | E16: 2.26 | F16: =E16*(1-G$12) -> 2.26
B17: MAT-05 | C17: ut. | D17: Backfill carbó granulat 0,5-4mm | E17: 580.5 | F17: =E17*(1-G$12) -> 580.5
B18: MAT-06 | C18: ut. | D18: Tub de propilè de 25 mm de diàmetre per a pous de fins a 60 m i propilè perforat fins a 30 m de part activa | E18: 65.31 | F18: =E18*(1-G$12) -> 65.31
B19: MAT-07 | C19: ut. | D19: Centradores para pous de fins a 250 mm de diàmetre | E19: 145.13 | F19: =E19*(1-G$12) -> 145.13
B20: MAT-08 | C20: ml | D20: Contrapeso y material de muntatge | E20: 7.98 | F20: =E20*(1-G$12) -> 7.98
B21: MAT-09 | C21: ml | D21: Cable KYNNAR 1 x 10 mm² | E21: 2.29 | F21: =E21*(1-G$12) -> 2.29
B22: MAT-10 | C22: ml | D22: Cable RV-K/1000V 1 x 10 mm² | E22: 5.3 | F22: =E22*(1-G$12) -> 5.3
B23: MAT-11 | C23: ml | D23: Cable RV-K/1000V 1 x 25mm² | E23: 2.76 | F23: =E23*(1-G$12) -> 2.76
B24: MAT-12 | C24: ml | D24: Cable RV-K/1000V 2 x 4 mm² | E24: 2.76 | F24: =E24*(1-G$12) -> 2.76
... B103: MAT-91 | C103: ut. | D103: Shunt de mesura 25A/60mV | E103: 71.47 | F103: =E103*(1-G$12) -> 71.47

Sheet PREUS UNITARIS
B3: CAPÍTOL I: MANTENIMENT PREVENTIU
B4: SUBCAPÍTOL I.1: REVISIONS QUATRIMESTRALS
B5: REVISIONS QUATRIMESTRALS DE LA ZONA SUD
B6: CODI | C6: Unitats | D6: Descripció | E6: Preu unitari | F6: Preu ofert
B7: RQ-19 | C7: ut. | D7: Canonada PTLL-Masquefa | E7: 161.25
B8: RQ-20 | C8: ut. | D8: Canonada diàmetre 2400 Abrera-Fontsanta | E8: 161.25
B9: RQ-21 | C9: ut. | D9: Canonada Bellots de Terrassa | E9: 161.25
B10: RQ-22 | C10: ut. | D10: Canonada Fontsanta-Trinitat | E10: 161.25
B11: RQ-23 | C11: ut. | D11: Canonada ITAM Llobregat-Fontsanta Tram fluvial | E11: 161.25
B12: RQ-24 | C12: ut. | D12: Canonada ITAM Llobregat-Fontsanta Tram urbà | E12: 161.25
B13: RQ-25 | C13: ut. | D13: Canonada La Pobla de Claramunt | E13: 161.25
B14: RQ-26 | C14: ut. | D14: Canonades Llosa del Cavall | E14: 322.5
B15: RQ-27 | C15: ut. | D15: Canonada impulsió EB Sant Andreu de la Barca | E15: 161.25
B16: RQ-28 | C16: ut. | D16: canonada sortida PTLL a Mina Pública Terrassa | E16: 161.25
B17: RQ-29 | C17: ut. | D17: canonada acer pas del riu PTLL-Abrera | E17: 161.25
B18: RQ-35 | C18: ut. | D18: Canonada de acero “2023-022_Reparació CN Comarcal Baix Llobregat Centre Fase I | E18: 161.25
... B20: RQ-37 | C20: ut. | D20: Canonada de conexio de Vallirana a la xarxa del Ter Llobregat | E20: 161.25
B22: SUBCAPÍTOL I.2: REVISIONS ANUALS
B23: REVISIONS ANUALS DE LA ZONA SUD
B24: CODI | C24: Unitats | D24: Descripció | E24: Preu unitari | F24: Preu ofert
B25: RA-19 | C25: ut. | D25: Canonada PTLL-Masquefa | E25: 1552.45
B26: RA-20 | C26: ut. | D26: Canonada diàmetre 2400 Abrera-Fontsanta | E26: 1552.45
B27: RA-21 | C27: ut. | D27: Canonada Bellots de Terrassa | E27: 1552.45
B28: RA-22 | C28: ut. | D28: Canonada Fontsanta-Trinitat | E28: 1552.45
B29: RA-23 | C29: ut. | D29: Canonada ITAM Llobregat-Fontsanta Tram fluvial | E29: 1940.56
B30: RA-24 | C30: ut. | D30: Canonada ITAM Llobregat-Fontsanta Tram urbà | E30: 1940.56
B31: RA-25 | C31: ut. | D31: Canonada La Pobla de Claramunt | E31: 1940.56
B32: RA-26 | C32: ut. | D32: Canonades Llosa del Cavall | E32: 5412.13
B33: RA-27 | C33: ut. | D33: Canonada impulsió EB Sant Andreu de la Barca | E33: 1164.34
B34: RA-28 | C34: ut. | D34: canonada sortida PTLL a Mina Pública Terrassa | E34: 1164.34
B35: RA-29 | C35: ut. | D35: canonada acer pas del riu PTLL-Abrera | E35: 776.23
B36: RA-30 | C36: ut. | D36: Canonada de acero “2023-022_Reparació CN Comarcal Baix Llobregat Centre Fase I | E36: 1164.34
... B38: RA-32 | C38: ut. | D38: Canonada de conexio de Vallirana a la xarxa del Ter Llobregat | E38: 1940.56
B41: CAPÍTOL II: MANTENIMENT CORRECTIU
B42: MANTENIMENT CORRECTIU DE LA ZONA SUD
B43: CODI | C43: U. | D43: Descripció | E43: Preu unitari anual | F43: Preu (no modificable)
B44: C-02 | C44: P.A. | D44: Partida alçada a justificar per cobrir les intervencions de manteniment correctiu que sorgin durant l'execució del present contracte en equips de la Zona Sud. Cada intervenció de manteniment correctiu es calcularà en base al Capítol II de Preus Simples que resulti adjudicat. (Aquesta partida del pressupost no es modificable a la oferta) LOT 2 | E44: 15000 | F44: 15000

Sheet LOT2
B1: PRESSUPOST DE LICITACIÓ _ Zona sud (LOT 2)
B3: CAPÍTOL I: MANTENIMENT PREVENTIU
B4: REVISIONS QUATRIMESTRALS DE LA ZONA SUD
B5: CODI | C5: U. | D5: Descripció | E5: Preu unitari | F5: Amid. | G5: 2026 | H5: 2027 | I5: 2028 | J5: 2029
B6: RQ-19 | C6: ut. | D6: Canonada PTLL-Masquefa | E6: ='PREUS UNITARIS'!F7 -> 0 | F6: 2 | G6: =E6*F6/2 -> 0 | H6: =E6*F6 -> 0 | I6: =E6*F6 -> 0 | J6: =E6*F6/2 -> 0
B7: RQ-20 | C7: ut. | D7: Canonada diàmetre 2400 Abrera-Fontsanta | E7: ='PREUS UNITARIS'!F8 -> 0 | F7: 2 | G7: =E7*F7/2 -> 0 | H7: =E7*F7 -> 0 | I7: =E7*F7 -> 0 | J7: =E7*F7/2 -> 0
B8: RQ-21 | C8: ut. | D8: Canonada Bellots de Terrassa | E8: ='PREUS UNITARIS'!F9 -> 0 | F8: 2 | G8: =E8*F8/2 -> 0 | H8: =E8*F8 -> 0 | I8: =E8*F8 -> 0 | J8: =E8*F8/2 -> 0
B9: RQ-22 | C9: ut. | D9: Canonada Fontsanta-Trinitat | E9: ='PREUS UNITARIS'!F10 -> 0 | F9: 2 | G9: =E9*F9/2 -> 0 | H9: =E9*F9 -> 0 | I9: =E9*F9 -> 0 | J9: =E9*F9/2 -> 0
B10: RQ-23 | C10: ut. | D10: Canonada ITAM Llobregat-Fontsanta Tram fluvial | E10: ='PREUS UNITARIS'!F11 -> 0 | F10: 2 | G10: =E10*F10/2 -> 0 | H10: =E10*F10 -> 0 | I10: =E10*F10 -> 0 | J10: =E10*F10/2 -> 0
B11: RQ-24 | C11: ut. | D11: Canonada ITAM Llobregat-Fontsanta Tram urbà | E11: ='PREUS UNITARIS'!F12 -> 0 | F11: 2 | G11: =E11*F11/2 -> 0 | H11: =E11*F11 -> 0 | I11: =E11*F11 -> 0 | J11: =E11*F11/2 -> 0
B12: RQ-25 | C12: ut. | D12: Canonada La Pobla de Claramunt | E12: ='PREUS UNITARIS'!F13 -> 0 | F12: 2 | G12: =E12*F12/2 -> 0 | H12: =E12*F12 -> 0 | I12: =E12*F12 -> 0 | J12: =E12*F12/2 -> 0
B13: RQ-26 | C13: ut. | D13: Canonades Llosa del Cavall | E13: ='PREUS UNITARIS'!F14 -> 0 | F13: 2 | G13: =E13*F13/2 -> 0 | H13: =E13*F13 -> 0 | I13: =E13*F13 -> 0 | J13: =E13*F13/2 -> 0
B14: RQ-27 | C14: ut. | D14: Canonada impulsió EB Sant Andreu de la Barca | E14: ='PREUS UNITARIS'!F15 -> 0 | F14: 2 | G14: =E14*F14/2 -> 0 | H14: =E14*F14 -> 0 | I14: =E14*F14 -> 0 | J14: =E14*F14/2 -> 0
B15: RQ-28 | C15: ut. | D15: canonada sortida PTLL a Mina Pública Terrassa | E15: ='PREUS UNITARIS'!F16 -> 0 | F15: 2 | G15: =E15*F15/2 -> 0 | H15: =E15*F15 -> 0 | I15: =E15*F15 -> 0 | J15: =E15*F15/2 -> 0
B16: RQ-29 | C16: ut. | D16: canonada acer pas del riu PTLL-Abrera | E16: ='PREUS UNITARIS'!F17 -> 0 | F16: 2 | G16: =E16*F16/2 -> 0 | H16: =E16*F16 -> 0 | I16: =E16*F16 -> 0 | J16: =E16*F16/2 -> 0
B17: RQ-35 | C17: ut. | D17: Canonada de acero “2023-022_Reparació CN Comarcal Baix Llobregat Centre Fase I | E17: ='PREUS UNITARIS'!F18 -> 0 | F17: 2 | G17: =E17*F17/2 -> 0 | H17: =E17*F17 -> 0 | I17: =E17*F17 -> 0 | J17: =E17*F17/2 -> 0
... B19: RQ-37 | C19: ut. | D19: Canonada de conexio de Vallirana a la xarxa del Ter Llobregat | E19: ='PREUS UNITARIS'!F20 -> 0 | F19: 2 | G19: =E19*F19/2 -> 0 | H19: =E19*F19 -> 0 | I19: =E19*F19 -> 0 | J19: =E19*F19/2 -> 0
E20: SUBTOTAL | G20: =SUM(G6:G19) -> 0 | H20: =SUM(H6:H19) -> 0 | I20: =SUM(I6:I19) -> 0 | J20: =SUM(J6:J19) -> 0
B22: REVISIONS ANUALS DE LA ZONA SUD
B23: NÚM. | C23: U. | D23: Descripció | E23: Preu unitari | F23: Amid. | G23: 2026 | H23: 2027 | I23: 2028 | J23: 2029
B24: RQ-19 | C24: ut. | D24: Canonada PTLL-Masquefa | E24: ='PREUS UNITARIS'!F25 -> 0 | F24: 1 | G24: =ROUND($E24*$F24/2,2) -> 0 | H24: =ROUND($E24*$F24,2) -> 0 | I24: =ROUND($E24*$F24,2) -> 0 | J24: =ROUND($E24*$F24/2,2) -> 0
B25: RQ-20 | C25: ut. | D25: Canonada diàmetre 2400 Abrera-Fontsanta | E25: ='PREUS UNITARIS'!F26 -> 0 | F25: 1 | G25: =ROUND($E25*$F25/2,2) -> 0 | H25: =ROUND($E25*$F25,2) -> 0 | I25: =ROUND($E25*$F25,2) -> 0 | J25: =ROUND($E25*$F25/2,2) -> 0
B26: RQ-21 | C26: ut. | D26: Canonada Bellots de Terrassa | E26: ='PREUS UNITARIS'!F27 -> 0 | F26: 1 | G26: =ROUND($E26*$F26/2,2) -> 0 | H26: =ROUND($E26*$F26,2) -> 0 | I26: =ROUND($E26*$F26,2) -> 0 | J26: =ROUND($E26*$F26/2,2) -> 0
B27: RQ-22 | C27: ut. | D27: Canonada Fontsanta-Trinitat | E27: ='PREUS UNITARIS'!F28 -> 0 | F27: 1 | G27: =ROUND($E27*$F27/2,2) -> 0 | H27: =ROUND($E27*$F27,2) -> 0 | I27: =ROUND($E27*$F27,2) -> 0 | J27: =ROUND($E27*$F27/2,2) -> 0
B28: RQ-23 | C28: ut. | D28: Canonada ITAM Llobregat-Fontsanta Tram fluvial | E28: ='PREUS UNITARIS'!F29 -> 0 | F28: 1 | G28: =ROUND($E28*$F28/2,2) -> 0 | H28: =ROUND($E28*$F28,2) -> 0 | I28: =ROUND($E28*$F28,2) -> 0 | J28: =ROUND($E28*$F28/2,2) -> 0
B29: RQ-24 | C29: ut. | D29: Canonada ITAM Llobregat-Fontsanta Tram urbà | E29: ='PREUS UNITARIS'!F30 -> 0 | F29: 1 | G29: =ROUND($E29*$F29/2,2) -> 0 | H29: =ROUND($E29*$F29,2) -> 0 | I29: =ROUND($E29*$F29,2) -> 0 | J29: =ROUND($E29*$F29/2,2) -> 0
B30: RQ-25 | C30: ut. | D30: Canonada La Pobla de Claramunt | E30: ='PREUS UNITARIS'!F31 -> 0 | F30: 1 | G30: =ROUND($E30*$F30/2,2) -> 0 | H30: =ROUND($E30*$F30,2) -> 0 | I30: =ROUND($E30*$F30,2) -> 0 | J30: =ROUND($E30*$F30/2,2) -> 0
B31: RQ-26 | C31: ut. | D31: Canonades Llosa del Cavall | E31: ='PREUS UNITARIS'!F32 -> 0 | F31: 1 | G31: =ROUND($E31*$F31/2,2) -> 0 | H31: =ROUND($E31*$F31,2) -> 0 | I31: =ROUND($E31*$F31,2) -> 0 | J31: =ROUND($E31*$F31/2,2) -> 0
B32: RQ-27 | C32: ut. | D32: Canonada impulsió EB Sant Andreu de la Barca | E32: ='PREUS UNITARIS'!F33 -> 0 | F32: 1 | G32: =ROUND($E32*$F32/2,2) -> 0 | H32: =ROUND($E32*$F32,2) -> 0 | I32: =ROUND($E32*$F32,2) -> 0 | J32: =ROUND($E32*$F32/2,2) -> 0
B33: RQ-28 | C33: ut. | D33: canonada sortida PTLL a Mina Pública Terrassa | E33: ='PREUS UNITARIS'!F34 -> 0 | F33: 1 | G33: =ROUND($E33*$F33/2,2) -> 0 | H33: =ROUND($E33*$F33,2) -> 0 | I33: =ROUND($E33*$F33,2) -> 0 | J33: =ROUND($E33*$F33/2,2) -> 0
B34: RQ-29 | C34: ut. | D34: canonada acer pas del riu PTLL-Abrera | E34: ='PREUS UNITARIS'!F35 -> 0 | F34: 1 | G34: =ROUND($E34*$F34/2,2) -> 0 | H34: =ROUND($E34*$F34,2) -> 0 | I34: =ROUND($E34*$F34,2) -> 0 | J34: =ROUND($E34*$F34/2,2) -> 0
B35: RQ-35 | C35: ut. | D35: Canonada de acero “2023-022_Reparació CN Comarcal Baix Llobregat Centre Fase I | E35: ='PREUS UNITARIS'!F36 -> 0 | F35: 1 | G35: =ROUND($E35*$F35/2,2) -> 0 | H35: =ROUND($E35*$F35,2) -> 0 | I35: =ROUND($E35*$F35,2) -> 0 | J35: =ROUND($E35*$F35/2,2) -> 0
... B37: RQ-37 | C37: ut. | D37: Canonada de conexio de Vallirana a la xarxa del Ter Llobregat | E37: ='PREUS UNITARIS'!F38 -> 0 | F37: 1 | G37: =ROUND($E37*$F37/2,2) -> 0 | H37: =ROUND($E37*$F37,2) -> 0 | I37: =ROUND($E37*$F37,2) -> 0 | J37: =ROUND($E37*$F37/2,2) -> 0
E38: SUBTOTAL | G38: =SUM(G24:G37) -> 0 | H38: =SUM(H24:H37) -> 0 | I38: =SUM(I24:I37) -> 0 | J38: =SUM(J24:J37) -> 0
B40: CAPÍTOL II: MANTENIMENT CORRECTIU
B41: MANTENIMENT CORRECTIU DE LA ZONA SUD
B42: CODI | C42: U. | D42: Descripció | E42: Preu unitari anual | F42: Amid. | G42: 2026 | H42: 2027 | I42: 2028 | J42: 2029
B43: C-02 | C43: P.A. | D43: Partida alçada a justificar per cobrir les intervencions de manteniment correctiu que sorgin durant l'execució del present contracte en equips de la Zona Sud. Cada intervenció de manteniment correctiu es calcularà en base al Capítol II del Quadre de Preus Unitaris que resulti adjudicat. (Aquesta partida del pressupost no es modificable a la oferta) | E43: 15000 | F43: 1 | G43: =E43*F43/2 -> 7500 | H43: =E43*F43 -> 15000 | I43: =E43*F43 -> 15000 | J43: =E43*F43/2 -> 7500

Sheet RESUM
B1: RESUM PRESSUPOST LICITACIÓ (LOT 2)
B4: ZONA SUD: | F4: 2026 | G4: 2027 | H4: 2028 | I4: 2029 | J4: TOTAL
B5: CAPÍTOL I:MANTENIMENT PREVENTIU
B6: SUBCAPÍTOL I.1-REVISIONS QUATRIMESTRALS | F6: ='LOT2'!G20 -> 0 | G6: ='LOT2'!H20 -> 0 | H6: ='LOT2'!I20 -> 0 | I6: ='LOT2'!J20 -> 0 | J6: =SUM(F6:I6) -> 0
B7: SUBCAPÍTOL I.2-REVISIONS ANUALS | F7: ='LOT2'!G38 -> 0 | G7: ='LOT2'!H38 -> 0 | H7: ='LOT2'!I38 -> 0 | I7: ='LOT2'!J38 -> 0 | J7: =SUM(F7:I7) -> 0
B8: CAPÍTOL II:MANTENIMENT CORRECTIU
B9: PARTIDA ALÇADA MANTENIMENT CORRECTIU SOBRE EQUIPS DE LA ZONA SUD | F9: ='LOT2'!G43 -> 7500 | G9: ='LOT2'!H43 -> 15000 | H9: ='LOT2'!I43 -> 15000 | I9: ='LOT2'!J43 -> 7500 | J9: =SUM(F9:I9) -> 45000
B10: TOTAL | F10: =SUM(F6:F9) -> 7500 | G10: =SUM(G6:G9) -> 15000 | H10: =SUM(H6:H9) -> 15000 | I10: =SUM(I6:I9) -> 7500 | J10: =SUM(J6:J9) -> 45000
B11: 21% IVA | F11: =0.21*F10 -> 1575 | G11: =0.21*G10 -> 3150 | H11: =0.21*H10 -> 3150 | I11: =0.21*I10 -> 1575 | J11: =0.21*J10 -> 9450
B12: TOTAL PRESSUPOST EXECUCIÓ CONTRACTE (inclòs IVA) | F12: =SUM(F10:F11) -> 9075 | G12: =SUM(G10:G11) -> 18150 | H12: =SUM(H10:H11) -> 18150 | I12: =SUM(I10:I11) -> 9075 | J12: =SUM(J10:J11) -> 54450
